BEGIN:VCALENDAR
VERSION:2.0
PRODID:-//Ling-Yen Designs - ECPv6.15.20//NONSGML v1.0//EN
CALSCALE:GREGORIAN
METHOD:PUBLISH
X-WR-CALNAME:Ling-Yen Designs
X-ORIGINAL-URL:https://ling-yendesigns.com
X-WR-CALDESC:Events for Ling-Yen Designs
REFRESH-INTERVAL;VALUE=DURATION:PT1H
X-Robots-Tag:noindex
X-PUBLISHED-TTL:PT1H
BEGIN:VTIMEZONE
TZID:America/Los_Angeles
BEGIN:DAYLIGHT
TZOFFSETFROM:-0800
TZOFFSETTO:-0700
TZNAME:PDT
DTSTART:20170312T100000
END:DAYLIGHT
BEGIN:STANDARD
TZOFFSETFROM:-0700
TZOFFSETTO:-0800
TZNAME:PST
DTSTART:20171105T090000
END:STANDARD
BEGIN:DAYLIGHT
TZOFFSETFROM:-0800
TZOFFSETTO:-0700
TZNAME:PDT
DTSTART:20180311T100000
END:DAYLIGHT
BEGIN:STANDARD
TZOFFSETFROM:-0700
TZOFFSETTO:-0800
TZNAME:PST
DTSTART:20181104T090000
END:STANDARD
BEGIN:DAYLIGHT
TZOFFSETFROM:-0800
TZOFFSETTO:-0700
TZNAME:PDT
DTSTART:20190310T100000
END:DAYLIGHT
BEGIN:STANDARD
TZOFFSETFROM:-0700
TZOFFSETTO:-0800
TZNAME:PST
DTSTART:20191103T090000
END:STANDARD
BEGIN:DAYLIGHT
TZOFFSETFROM:-0800
TZOFFSETTO:-0700
TZNAME:PDT
DTSTART:20200308T100000
END:DAYLIGHT
BEGIN:STANDARD
TZOFFSETFROM:-0700
TZOFFSETTO:-0800
TZNAME:PST
DTSTART:20201101T090000
END:STANDARD
END:VTIMEZONE
BEGIN:VEVENT
DTSTART;TZID=America/Los_Angeles:20190511T113000
DTEND;TZID=America/Los_Angeles:20190511T150000
DTSTAMP:20260421T040046
CREATED:20181208T160344Z
LAST-MODIFIED:20190506T190931Z
UID:2420-1557574200-1557586800@ling-yendesigns.com
SUMMARY:Red Stella Meet & Greet
DESCRIPTION:Please come spend a little time with Judith\, Robin and Ling-Yen on Mother’s day. \nCome see my new and work you have grown to love and own. \nWe will have some mimosas and some little sweet treat. \nRed Stella \nRed Stella will present this seasons first pop up on the Porch with two local artists\, Saturday\, May 11 from 11am to 3pm.  Ling-Yen Jones has been the featured artist at Red Stella since our beginning\, working mainly in silver and semi-precious stones\, this master jeweler  brings her serenity and grace to each one of a kind piece. Ling -Yen defines her work as useful \, artistic and symbolic \nHer intention for each piece is that its clean looking\, distinctive and artistically rendered. \nDavina Allen\, the great- granddaughter of Lucienne Bloch\, Frida Kahlos best friend\, grew up with the black and white photographs of Kahlo and was inspired after a trip to the Portland rose garden to bring color to the stunning photos.  Davina has digitally incorporated the vivid colors of the roses into her grandmothers images on  metal without disturbing the original vision\, but adding to its composition and beauty. \nMeet the artists\, enter the Mothers day drawing\, enjoy Mimosas  and treats on the Porch this Saturday.
URL:https://ling-yendesigns.com/event/red-stella-meet-greet/
LOCATION:Red Stella\, 39251 S. Hwy One\, Gualala\, CA\, 95445\, United States
END:VEVENT
BEGIN:VEVENT
DTSTART;TZID=America/Los_Angeles:20190508T100000
DTEND;TZID=America/Los_Angeles:20190508T170000
DTSTAMP:20260421T040046
CREATED:20190328T155703Z
LAST-MODIFIED:20190328T155703Z
UID:2500-1557309600-1557334800@ling-yendesigns.com
SUMMARY:Asian Art Museum Spring Artisan Market
DESCRIPTION:This is a new event for Ling-Yen designs. Please come and visit the Asian Art museum on Wednesday\, May 8th  from 10 am to 5 pm at 200 Larkin Street San Francisco\, CA 94102\, \nI am excited to be a part of this museum show and look forward to you coming to visit me there.
URL:https://ling-yendesigns.com/event/asian-art-museum-spring-artisan-market/
LOCATION:Asian Art Museum\, 200 Larkin Street\, San Francisco\, 94102\, United States
ORGANIZER;CN="Francoise Sengens":MAILTO:fsengens@asianart.org
END:VEVENT
BEGIN:VEVENT
DTSTART;TZID=America/Los_Angeles:20190505T080000
DTEND;TZID=America/Los_Angeles:20190602T170000
DTSTAMP:20260421T040046
CREATED:20190221T182814Z
LAST-MODIFIED:20190221T182814Z
UID:2460-1557043200-1559494800@ling-yendesigns.com
SUMMARY:Omachi-Miasa-Mendocino International Art Exchange
DESCRIPTION:The two exhibitions are May 5- May 12 at the Matsumoto Museum of Modern Art in Matsumoto\, Japan \nand May 16 to June 2 Omachi Asagura Art Center in Omachi\, Japan \nMendocino’s Sister City of Omachi\, Nagano\, Japan sits beneath the majestic Japan Alps south of Hakuba and north of Matsumoto  \n\nMendocino Sister Cities Association is dedicated to the promotion of friendly relations and mutual understanding among cultures.\n \nMiasa-Omachi is located on Japan’s main island of Honshu in Nagano Prefecture\, about 150 miles northwest of Tokyo. Omachi-shi 大町市 is located in a long\, wide valley beneath the towering Japan Alps. Miasa-mura 美麻村 (Miasa Village) is about 10 miles east-northeast of Omachi. Miasa 美麻\, means\, “Beautiful Hemp” in English. In 2006 our original Sister City of Miasa was incorporated by Omachi. Miasa-Omachi is the name we have given our new Sister City although\, technically the City of Omachi is our Sister City. \nTo date\, this 25 year consecutive annual exchange has influenced the lives of over 585 students and 290 adults. Some Mendocino students have gone on to attend high school in Japan just as some Miasa students have later attended high school in Mendocino. Please see the website for more history about this sister city relationship http://www.mendosca.org/history.
URL:https://ling-yendesigns.com/event/omachi-miasa-mendocino-international-art-exchange/
LOCATION:Matsumato Museum of Modern Art\, Matsumato\, Japan
END:VEVENT
BEGIN:VEVENT
DTSTART;TZID=America/Los_Angeles:20190420T110000
DTEND;TZID=America/Los_Angeles:20190420T170000
DTSTAMP:20260421T040046
CREATED:20190106T110948Z
LAST-MODIFIED:20190108T091354Z
UID:2442-1555758000-1555779600@ling-yendesigns.com
SUMMARY:Makers Market on the Deck - Los Gatos | A Monthly Craft Fair!
DESCRIPTION:This will be a first for Ling-Yen designs with the Makers Market one day event. I am excited to get back to Los Gatos  I haven’t been here in a long time. This is a one day event starting at 11 am. Please come and see our new and wonderful items. \n\n\n\n\n\nOur monthly Makers Market on the Deck hosted by Makers Market – is back by popular demand! Our first market of the year will be on March 16th and will continue on every 3rd Saturday of the month. We are so excited to kickoff our monthly craft fair series at the beautifully quaint Old Town Centre in Los Gatos and would love for you to join us! We have new makers and new products to show all of you! \nBring your friends & family to this curated marketplace at Old Town Centre (Just a block away from Santa Cruz Ave and downtown Los Gatos) and shop local artists selling US Handcrafted goods such as jewelry\, handbags\, ceramics\, glassware\, soaps\, succulents\, candles and more! Enjoy the Centre\, listen to live music\, and support local small businesses! \nTHIS IS A FREE EVENT! But please RSVP to help us better understand how many people to anticipate! \n– 20+ Local Artists\n– DIY Workshops\n– Live Music \nMakers Market\, with stores located in Santana Row\, Broadway Plaza\, Napa\, and Mill Valley aims to bring you products that honor the ideals of American craftsmanship and are Modern + Heritage-inspired. Join us in our mission of Rebuilding the Legacy of American Made\, while supporting our local artists and the community. Come visit one of our stores today! \nInterested in being a vendor? Apply on our online application at https://makersmarket.us/maker-registration \nInterested in joining us as a musician? Please send info to Heath@MakersMarket.US \n\n\n\n\n\n\n\n\n 
URL:https://ling-yendesigns.com/event/makers-market-on-the-deck-los-gatos-a-monthly-craft-fair/
LOCATION:Makers Market on the Deck – Los Gatos | A Monthly Craft Fair!\, 50 University Ave\, Los Gatos\, CA\, 95030\, United States
END:VEVENT
BEGIN:VEVENT
DTSTART;TZID=America/Los_Angeles:20190330T100000
DTEND;TZID=America/Los_Angeles:20190331T170000
DTSTAMP:20260421T040046
CREATED:20190220T190745Z
LAST-MODIFIED:20190320T172648Z
UID:2451-1553940000-1554051600@ling-yendesigns.com
SUMMARY:Belmont Handcrafted Originals Art Fair\, a Boutique Open-Air Art Event
DESCRIPTION:Belmont Handcrafted Originals Art Fair\, a Boutique Open-Air Art Event\nCarlmont Village Shopping Center brims with activity when the Handcrafted Originals Art Fair arrives in this quaint town. Belmont is nestled on the San Francisco peninsula\, 20 miles south of the City and just north of San Carlos. The event is set among the Shopping Center’s charming covered walks and takes place Saturday and Sunday\, March 30 & 31 from 10 a.m. to 5 p.m. each day. More than 20 celebrated artists will be on hand during this free event\, giving visitors the opportunity to browse and buy unique\, original pieces ranging from paintings\, photography\, ceramics\, jewelry and much more.http://www.pacificfinearts.com/wp-content/uploads/2019/02/Belmont_2019_emailer.pdf \nLing-Yen Jones / Image by Bill Apton
URL:https://ling-yendesigns.com/event/belmont-handcrafted-originals-art-fair/
LOCATION:Carlmont Village Shopping Center 1049 Alameda de las Pulgas Belmont\, CA\, 1049 Alameda De Las Pulgas\, Belmont\, CA\, 95468\, United States
ORGANIZER;CN="Pacific Fine Arts":MAILTO:lingyen@juno.com
END:VEVENT
BEGIN:VEVENT
DTSTART;TZID=America/Los_Angeles:20190317T120000
DTEND;TZID=America/Los_Angeles:20190317T150000
DTSTAMP:20260421T040046
CREATED:20190305T160444Z
LAST-MODIFIED:20190305T193232Z
UID:2480-1552824000-1552834800@ling-yendesigns.com
SUMMARY:Meet & Greet with Lorna Ritter & Ling-Yen Jones at the Jessel Gallery\,Napa
DESCRIPTION:Come join us for a unique dual meet and greet event at Jessel Gallery.\nSunday March 17th from 12:00pm-3:00pm\nJewelry Artist Ling-Yen Jones of Ling-Yen Designs and bead artist Lorna Ritter of Fringe Magic\nJewelry will be showing their line of work together at this special event.\nLing-Yen will be there with her amazing line of work inspired by her heritage and Lorna will be\ndemonstrating how she creates her fringe style jewelry.\nCome have some fun with us and tell your friends!\nA special Thank You Jessel Miller and her continued support at Jessel Gallery
URL:https://ling-yendesigns.com/event/meet-greet-with-lorna-ritter-ling-yen-jones-at-the-jessel-gallerynapa/
LOCATION:1019 Atlas Peak Road\, 1019 Atlas Peak Road\, Napa\, 94558\, United States
END:VEVENT
BEGIN:VEVENT
DTSTART;TZID=America/Los_Angeles:20190316T110000
DTEND;TZID=America/Los_Angeles:20190316T170000
DTSTAMP:20260421T040046
CREATED:20190106T105526Z
LAST-MODIFIED:20190315T000825Z
UID:2436-1552734000-1552755600@ling-yendesigns.com
SUMMARY:Makers Market on First Street Napa | A Monthly Craft Fair!
DESCRIPTION:Please join Ling-Yen and many other makers and creators at this one day event it \nopens when the Maker’s Market store opens so please join me and see the wonderful new items we have for sale. Ling-Yen will be in booth 16.
URL:https://ling-yendesigns.com/event/makers-market-on-first-street-napa-a-monthly-craft-fair/
LOCATION:Maker’s Market\, 1300 1st Street Suite 301\, Napa\, CA\, 94559\, United States
END:VEVENT
BEGIN:VEVENT
DTSTART;TZID=America/Los_Angeles:20190208T100000
DTEND;TZID=America/Los_Angeles:20190209T170000
DTSTAMP:20260421T040046
CREATED:20181205T232842Z
LAST-MODIFIED:20181205T232842Z
UID:2413-1549620000-1549731600@ling-yendesigns.com
SUMMARY:The Red Door Gallery in Tubac\, AZ Meet & Greet
DESCRIPTION:Welcome to Tubac Red Door Gallery. This is the place where CK Wearden presents her rich array of contemporary southwest art filled with images of the Native American and Hispanic cultures that are so much a part of this vibrant region in Tubac\, Arizona. I will be joining her during the Tubac Festival of Arts.
URL:https://ling-yendesigns.com/event/the-red-door-gallery-in-tubac-az-meet-greet/
LOCATION:Red Door Gallery\, 10 Plaza Road\, Box 4701\, Tubac\, AZ 85646\, Tubac\, AZ\, 85646\, United States
END:VEVENT
BEGIN:VEVENT
DTSTART;TZID=America/Los_Angeles:20181215T110000
DTEND;TZID=America/Los_Angeles:20181216T170000
DTSTAMP:20260421T040046
CREATED:20180817T170448Z
LAST-MODIFIED:20181211T202139Z
UID:2374-1544871600-1544979600@ling-yendesigns.com
SUMMARY:Sacred Laughter holiday open studio
DESCRIPTION:It’s unique\, it’s different\, what better gift than original artwork \, and handcrafted jewelry? \nPlease come and visit and see our new delightful works. \n 
URL:https://ling-yendesigns.com/event/sacred-laughter-holiday-open-studio/
LOCATION:931 Hearst Ave.\,Berkeley\,CA 94710\, 931 Hearst Ave.\, Berkeley\, 94710\, United States
END:VEVENT
BEGIN:VEVENT
DTSTART;TZID=America/Los_Angeles:20181123T100000
DTEND;TZID=America/Los_Angeles:20181125T173000
DTSTAMP:20260421T040046
CREATED:20181105T172332Z
LAST-MODIFIED:20181105T172447Z
UID:2392-1542967200-1543167000@ling-yendesigns.com
SUMMARY:Crocker Artisan Holiday Market presented by the Creative Arts League
DESCRIPTION:Please join Ling-Yen designs and many other artist sharing their wonderful works on Nov. 23-25 at the Scottish Rite Masonic Center in Sacramento\,CA. Ling-Yen will be in booth 102. \nPlease friend with link below. \nCrocker Holiday Artisan Market \n\n\n\nNov 23 – Nov 25 · Scottish Rite Masonic Center · Sacramento\, California\nYou’ve checked in to Scottish Rite Masonic Center before
URL:https://ling-yendesigns.com/event/crocker-artisan-holiday-market-presented-by-the-creative-arts-league/
LOCATION:6151 H. Street Sacramento\, 6151 H Street\, Sacramento\, CA\, United States
CATEGORIES:2018
END:VEVENT
BEGIN:VEVENT
DTSTART;TZID=America/Los_Angeles:20181116T100000
DTEND;TZID=America/Los_Angeles:20181118T180000
DTSTAMP:20260421T040046
CREATED:20180809T004723Z
LAST-MODIFIED:20180809T004734Z
UID:2368-1542362400-1542564000@ling-yendesigns.com
SUMMARY:Gifts'n' Tyme Holiday Gift Faire 46th annual
DESCRIPTION:Please join Ling-Yen designs at the Chardonnay Hall in Napa Valley Expo at 575 third Street in Napa\, CA. This is a three day show Friday 10 am to 6 pm\, Saturday 10 am to 6 pm and Sunday 10 am to 4 pm. This will be a fun and holiday type of event. I am looking forward to the holiday cheer. \n 
URL:https://ling-yendesigns.com/event/giftsn-tyme-holiday-gift-faire-46th-annual/
LOCATION:Chardonnay Hall\, 575 Third Street\, Napa\, CA\, United States
ORGANIZER;CN="Kim & Mark Patillo":MAILTO:afterthegoldrush@sbcglobal.net
END:VEVENT
BEGIN:VEVENT
DTSTART;TZID=America/Los_Angeles:20181026T100000
DTEND;TZID=America/Los_Angeles:20181028T180000
DTSTAMP:20260421T040046
CREATED:20180623T150416Z
LAST-MODIFIED:20180809T003221Z
UID:2358-1540548000-1540749600@ling-yendesigns.com
SUMMARY:Contemporary Craft Market
DESCRIPTION:Please join Ling-Yen designs at booth 313\, and 200 plus other contemporary artists at \nThe Pasadena Convention Center Exhibit Hall\,300 E. Green Street\, Pasadena\, CA 91101. \nWe will be excited to show our new collections and designs to you.
URL:https://ling-yendesigns.com/event/contemporary-craft-market/
LOCATION:Pasadena Convention Center Exhibit Hall 300 E. Green Street Pasadena\, CA 91101\, 300 E. Green Street\, Pasadena\, CA\, 91101\, United States
END:VEVENT
BEGIN:VEVENT
DTSTART;TZID=America/Los_Angeles:20181020T100000
DTEND;TZID=America/Los_Angeles:20181021T180000
DTSTAMP:20260421T040046
CREATED:20180822T150434Z
LAST-MODIFIED:20180823T142803Z
UID:2380-1540029600-1540144800@ling-yendesigns.com
SUMMARY:Beverly Hills Art Show
DESCRIPTION:Please join me and 200 plus other wonderful Artist at the Oct. 20 & 21.2018 art show. \nI am excited to show my new work and to be in the Gardens in Beverly Hills on \nSanta Monica near Beverly Hills. Ling-Yen designs will be in booth number 179. \n 
URL:https://ling-yendesigns.com/event/beverly-hills-art-show-2/
LOCATION:9455 N. Santa Monica Blvd. Beverly HIlls CA 90210\, 9455 N. Santa Monica Blvd.\, Beverly Hills\, 90210\, United States
END:VEVENT
BEGIN:VEVENT
DTSTART;VALUE=DATE:20180908
DTEND;VALUE=DATE:20180910
DTSTAMP:20260421T040046
CREATED:20180330T010643Z
LAST-MODIFIED:20180330T010643Z
UID:2316-1536364800-1536537599@ling-yendesigns.com
SUMMARY:Carmel Bay Company\, Meet & Greet
DESCRIPTION:
URL:https://ling-yendesigns.com/event/carmel-bay-company-meet-greet/
LOCATION:Carmel Bay Company\, Lincoln and Ocean Street\, Carmel by the Sea\, CA\, United States
CATEGORIES:2018
END:VEVENT
BEGIN:VEVENT
DTSTART;TZID=America/Los_Angeles:20180901T100000
DTEND;TZID=America/Los_Angeles:20180903T170000
DTSTAMP:20260421T040046
CREATED:20180607T165225Z
LAST-MODIFIED:20180607T165225Z
UID:2348-1535796000-1535994000@ling-yendesigns.com
SUMMARY:26th annual North Coast Artist Guild Studio Discovery Tour
DESCRIPTION:26 annual North Coast Artist Guild Studio Discovery Tour \nSeptember 1-3\,2018 \nAll three days open 10 am to 5 pm \nSTUDIODISCOVERYTOUR.COM WEBSITE. \nJoin us at Malene Samuelsen shop/ studio 39179 Highway ONE Suite H Gualala Ca\, 95445\, Fiber  Malene Samuelsen\, Created garments\, Kathryn Weiss\, Flameworked glass jewelry & Ling-Yen Jones\, jewelry. #7 a\,b\,c
URL:https://ling-yendesigns.com/event/26th-annual-north-coast-artist-guild-studio-discovery-tour/
LOCATION:39179 Highway 1\, Suite H Gualala\, CA 94554\, 39179 Highway 1\, Gualala\, CA\, 95445\, United States
END:VEVENT
BEGIN:VEVENT
DTSTART;VALUE=DATE:20180817
DTEND;VALUE=DATE:20180820
DTSTAMP:20260421T040046
CREATED:20180330T010244Z
LAST-MODIFIED:20180330T010244Z
UID:2313-1534464000-1534723199@ling-yendesigns.com
SUMMARY:57th Annual Art in the Redwoods
DESCRIPTION:August 17th 4-6 pm\, August 18th 10 am to 5 pm\, August 19th 10 am to 4 pm.\n\nGualala Arts Presents Art in the Redwoods Festival at the Gualala Arts Center and grounds. Fine Art Exhibit is Free! Admission to the festival is $6; youth 17 and under are free.
URL:https://ling-yendesigns.com/event/57th-annual-art-in-the-redwoods/
LOCATION:Gualala Arts Center\, 46501 Old State Highway\, Gualala\, United States
CATEGORIES:2018
END:VEVENT
BEGIN:VEVENT
DTSTART;VALUE=DATE:20180803
DTEND;VALUE=DATE:20180806
DTSTAMP:20260421T040046
CREATED:20180330T011735Z
LAST-MODIFIED:20180330T011742Z
UID:2322-1533254400-1533513599@ling-yendesigns.com
SUMMARY:57th Annual Anacortes Arts Festival
DESCRIPTION:Commercial Ave in Anacortes\, Washington\, from Friday 10 am to 7 pm\, Saturday 10 am to 6 pm\, & Sunday 10 am to 5 pm.
URL:https://ling-yendesigns.com/event/57th-annual-anacortes-arts-festival/
LOCATION:Anacortes\, Washington\, 600 Commercial Ave\, Anacortes\, WA\, United States
CATEGORIES:2018
END:VEVENT
BEGIN:VEVENT
DTSTART;VALUE=DATE:20180727
DTEND;VALUE=DATE:20180730
DTSTAMP:20260421T040046
CREATED:20180507T035853Z
LAST-MODIFIED:20180507T035853Z
UID:2338-1532649600-1532908799@ling-yendesigns.com
SUMMARY:Bellevue Festival of the Arts
DESCRIPTION:July 27\, 28 & 29\,2018\n\nHours: Friday and Saturday 10 am – 8pm and Sunday 10 am – 6pm\n\n\nBooth 130
URL:https://ling-yendesigns.com/event/bellevue-festival-of-the-arts/
LOCATION:Cost Plus World Market Parking Lot\, 10300 NE 8th St\, Bellavue\, WA\, United States
CATEGORIES:2018
END:VEVENT
BEGIN:VEVENT
DTSTART;VALUE=DATE:20180720
DTEND;VALUE=DATE:20180723
DTSTAMP:20260421T040046
CREATED:20180330T011139Z
LAST-MODIFIED:20180330T011139Z
UID:2319-1532044800-1532303999@ling-yendesigns.com
SUMMARY:Salem Art Fair & Festival
DESCRIPTION:Hours: \nFriday\, July 20 | 10 am-7 pm (Music Headliner 7:30-9:00 pm)\nSaturday\, July 21 | 10 am-7 pm (Music Headliner 7:30-9:00 pm)\nSunday\, July 22 | 10 am-5 pm \nAdmission (Cash Only): \n$5 Day\n$10 Three-Day Pass\n$3 Youth Student on Saturday (with Student ID)\nFREE for Children 12 & Younger\nFREE for all ages on Sunday from 3-5 pm\nFREE with Oregon Trail Card \n 
URL:https://ling-yendesigns.com/event/salem-art-fair-festival/
LOCATION:Bush’s Pasture Park\, 890 Mission St SE\, Salem\, OR\, United States
CATEGORIES:2018
END:VEVENT
BEGIN:VEVENT
DTSTART;TZID=America/Los_Angeles:20180714T100000
DTEND;TZID=America/Los_Angeles:20180715T180000
DTSTAMP:20260421T040046
CREATED:20180606T190939Z
LAST-MODIFIED:20180606T191254Z
UID:2342-1531562400-1531677600@ling-yendesigns.com
SUMMARY:Los Altos Art & Wine Festival
DESCRIPTION:Los Altos Art & Wine Festival  \nJuly 14 &15\, 2018 10 am to 6 pm \nOn Main Street & State Street\, Los Altos Village \nwww.Pacificfinearts.com
URL:https://ling-yendesigns.com/event/los-altos-art-wine-festival/
LOCATION:Los Altos Art & Wine\, 88 Main Street\, Los Altos\, 94022\, United States
CATEGORIES:2018
END:VEVENT
BEGIN:VEVENT
DTSTART;VALUE=DATE:20180526
DTEND;VALUE=DATE:20180528
DTSTAMP:20260421T040046
CREATED:20180330T005619Z
LAST-MODIFIED:20180330T005739Z
UID:2310-1527292800-1527465599@ling-yendesigns.com
SUMMARY:11th Annual Fine Arts Fair
DESCRIPTION:Gualala Arts will host the 11th Annual Fine Arts Fair at the Gualala Arts Center on Saturday\, May 26 and Sunday\, May 27\, 2018\, from 10 am to 5 pm both days. Admission is free.
URL:https://ling-yendesigns.com/event/11th-annual-fine-arts-fair/
LOCATION:Gualala Arts Center\, 46501 Old State Highway\, Gualala\, United States
CATEGORIES:2018
END:VEVENT
BEGIN:VEVENT
DTSTART;VALUE=DATE:20180519
DTEND;VALUE=DATE:20180521
DTSTAMP:20260421T040046
CREATED:20180329T052811Z
LAST-MODIFIED:20180330T005201Z
UID:2301-1526688000-1526860799@ling-yendesigns.com
SUMMARY:Beverly Hills Art Show
DESCRIPTION:Beverly Gardens Park along Santa Monica Boulevard\, from Rodeo to Rexford Drive. Booth 181\n\nThe free show features art by over 245 artists from around the nation who showcase their work in painting\, sculpture\, watercolor\, photography\, mixed media\, ceramics\, jewelry\, drawing and printmaking.
URL:https://ling-yendesigns.com/event/beverly-hills-art-show/
LOCATION:Beverly Gardens Park\, 9439 Santa Monica Blvd\, Beverly Hills\, CA\, United States
CATEGORIES:2018
END:VEVENT
BEGIN:VEVENT
DTSTART;VALUE=DATE:20180427
DTEND;VALUE=DATE:20180429
DTSTAMP:20260421T040046
CREATED:20180329T051343Z
LAST-MODIFIED:20180330T004937Z
UID:2291-1524787200-1524959999@ling-yendesigns.com
SUMMARY:Almost Fringe Festival at the Coast Highway Artists Collective
DESCRIPTION:From April 5-29: Open House Celebrations: Fri. Apr. 27\, 5 – 7 pm\, and Sat. Apr. 28\, 5 – 7 pm.  The gallery will offer themed art and activities celebrating the Almost Fringe Festival\, with Live Music\, and Food snacks/wine at the reception hours.\n\nCHAC is open Friday-Sunday 11 am to 5 pm.\nwww.coast-highway-artists.com and www.pointarena.net
URL:https://ling-yendesigns.com/event/almost-fringe/
LOCATION:Coast Highway Artists Collective\, 284 Main Street\, Point Arena\, CA\, 95468\, United States
CATEGORIES:2018
END:VEVENT
BEGIN:VEVENT
DTSTART;VALUE=DATE:20180421
DTEND;VALUE=DATE:20180423
DTSTAMP:20260421T040046
CREATED:20180329T052128Z
LAST-MODIFIED:20180330T005135Z
UID:2296-1524268800-1524441599@ling-yendesigns.com
SUMMARY:Cha-Ya
DESCRIPTION:11:00am – 2:00pm both days\, April 21 & April 22nd.
URL:https://ling-yendesigns.com/event/cha-ya/
LOCATION:Cha-Ya\, 118 Webster Street\, Monterey\, CA\, United States
CATEGORIES:2018
END:VEVENT
BEGIN:VEVENT
DTSTART;TZID=America/Los_Angeles:20180323T180000
DTEND;TZID=America/Los_Angeles:20180504T190000
DTSTAMP:20260421T040046
CREATED:20180319T021245Z
LAST-MODIFIED:20180329T161218Z
UID:2278-1521828000-1525460400@ling-yendesigns.com
SUMMARY:The Birdhouse Show
DESCRIPTION:Paxton Gate Curiosities for Kids – The Birdhouse Show.\nA collection of birdhouses and related art.\nShow opening Friday\, March 23rd from 6-8pm. Show closing May 4th.\n\nThe Birdhouse Show – Flyer
URL:https://ling-yendesigns.com/event/the-birdhouse-show/
LOCATION:Paxton Gate Curiosities for Kids\, 766 Valencia Street\, San Francisco\, CA\, 94110\, United States
CATEGORIES:2018
END:VEVENT
BEGIN:VEVENT
DTSTART;TZID=America/Los_Angeles:20180310T130000
DTEND;TZID=America/Los_Angeles:20180310T160000
DTSTAMP:20260421T040046
CREATED:20180319T015252Z
LAST-MODIFIED:20180319T021626Z
UID:2275-1520686800-1520697600@ling-yendesigns.com
SUMMARY:Red Stella "Meet and Greet"
DESCRIPTION:At Red Stella\, located in the old post office.
URL:https://ling-yendesigns.com/event/red-stella-meet-and-greet/
LOCATION:Red Stella\, 39108 Ocean Drive\, Gualala\, CA\, United States
CATEGORIES:2018
END:VEVENT
END:VCALENDAR