BEGIN:VCALENDAR
VERSION:2.0
PRODID:-//Ling-Yen Designs - ECPv6.15.20//NONSGML v1.0//EN
CALSCALE:GREGORIAN
METHOD:PUBLISH
X-ORIGINAL-URL:https://ling-yendesigns.com
X-WR-CALDESC:Events for Ling-Yen Designs
REFRESH-INTERVAL;VALUE=DURATION:PT1H
X-Robots-Tag:noindex
X-PUBLISHED-TTL:PT1H
BEGIN:VTIMEZONE
TZID:America/Los_Angeles
BEGIN:DAYLIGHT
TZOFFSETFROM:-0800
TZOFFSETTO:-0700
TZNAME:PDT
DTSTART:20220313T100000
END:DAYLIGHT
BEGIN:STANDARD
TZOFFSETFROM:-0700
TZOFFSETTO:-0800
TZNAME:PST
DTSTART:20221106T090000
END:STANDARD
BEGIN:DAYLIGHT
TZOFFSETFROM:-0800
TZOFFSETTO:-0700
TZNAME:PDT
DTSTART:20230312T100000
END:DAYLIGHT
BEGIN:STANDARD
TZOFFSETFROM:-0700
TZOFFSETTO:-0800
TZNAME:PST
DTSTART:20231105T090000
END:STANDARD
BEGIN:DAYLIGHT
TZOFFSETFROM:-0800
TZOFFSETTO:-0700
TZNAME:PDT
DTSTART:20240310T100000
END:DAYLIGHT
BEGIN:STANDARD
TZOFFSETFROM:-0700
TZOFFSETTO:-0800
TZNAME:PST
DTSTART:20241103T090000
END:STANDARD
END:VTIMEZONE
BEGIN:VEVENT
DTSTART;TZID=America/Los_Angeles:20230901T100000
DTEND;TZID=America/Los_Angeles:20231007T170000
DTSTAMP:20260422T043404
CREATED:20230508T205144Z
LAST-MODIFIED:20230921T154724Z
UID:3157-1693562400-1696698000@ling-yendesigns.com
SUMMARY:Omachi-Miasa-Mendocino International Art Exchange
DESCRIPTION:The two exhibitions are in September at the Matsumoto Museum of Modern Art in Matsumoto\, Japan \nand  Omachi Asagura Art Center in Omachi\, Japan \nMendocino’s Sister City of Omachi\, Nagano\, Japan sits beneath the majestic Japan Alps south of Hakuba and north of Matsumoto  \n\nMendocino Sister Cities Association is dedicated to the promotion of friendly relations and mutual understanding among cultures. \nMiasa-Omachi is located on Japan’s main island of Honshu in Nagano Prefecture\, about 150 miles northwest of Tokyo. Omachi-shi 大町市 is located in a long\, wide valley beneath the towering Japan Alps. Miasa-mura 美麻村 (Miasa Village) is about 10 miles east-northeast of Omachi. Miasa 美麻\, means\, “Beautiful Hemp” in English. In 2006 our original Sister City of Miasa was incorporated by Omachi. Miasa-Omachi is the name we have given our new Sister City although\, technically the City of Omachi is our Sister City. \nTo date\, this 28th-year consecutive annual exchange has influenced the lives of over 585 students and 290 adults. Some Mendocino students have gone on to attend high school in Japan just as some Miasa students have later attended high school in Mendocino. Please see the website for more history about this sister city relationship http://www.mendosca.org/history.
URL:https://ling-yendesigns.com/event/omachi-miasa-mendocino-international-art-exchange-2/
LOCATION:Miasa Omachi Japan\, Japan
ATTACH;FMTTYPE=image/jpeg:https://ling-yendesigns.com/newroot/wp-content/uploads/2023/05/Ling-Yen-work-Omachi-Japan-23.jpeg
END:VEVENT
END:VCALENDAR